BEGIN:VCALENDAR
VERSION:2.0
PRODID:-//hacksw/handcal//NONSGML v1.0//EN
CALSCALE:GREGORIAN
BEGIN:VEVENT
LOCATION:Winterthur: Eulachstrand
DTSTART:20260529T200000
DTEND:20260529T223000
REMINDER:20260527T200000
SUMMARY:SANNI &#038\; FRIENDS
DTSTAMP:20260420T025610
UID:69e595ca63bd6
BEGIN:VALARM
X-WR-ALARMUID:69e595ca63bd8
UID:69e595ca63bd9
TRIGGER:-P2D
DESCRIPTION:Reminder
ACTION:DISPLAY
END:VALARM
END:VEVENT
END:VCALENDAR